BEGIN:VCALENDAR
VERSION:2.0
PRODID:-//hacksw/handcal//NONSGML v1.0//EN
BEGIN:VEVENT
SUMMARY:Dep. Jeune R3
UID:9c442b06-3e89-4213-b259-3d23821c3bb2
DTSTART:20260124T230000Z
DTEND:20260125T230000Z
LOCATION:Localisation   
CATEGORIES:Sportif
STATUS:
URL;VALUE=URI:https://www.echecs-segre.fr/evenements/2026/01/25/dep-jeune-r3-2443775
END:VEVENT
END:VCALENDAR
