BEGIN:VCALENDAR
VERSION:2.0
PRODID:-//hacksw/handcal//NONSGML v1.0//EN
BEGIN:VEVENT
SUMMARY:N1 J - R4
UID:aeb2e331-7b52-4223-b3be-102013f917cc
DTSTART:20260125T090000Z
DTEND:20260125T230000Z
LOCATION:Localisation   
CATEGORIES:Sportif
STATUS:
URL;VALUE=URI:https://www.echecs-segre.fr/evenements/2026/01/25/n1-j-r4-2443730
END:VEVENT
END:VCALENDAR
