BEGIN:VCALENDAR
VERSION:2.0
PRODID:-//hacksw/handcal//NONSGML v1.0//EN
BEGIN:VEVENT
SUMMARY:Dep. Jeune R4
UID:a319f14b-d439-45a3-bcdf-c10de4933e95
DTSTART:20260207T230000Z
DTEND:20260208T230000Z
LOCATION:Localisation   
CATEGORIES:Sportif
STATUS:
URL;VALUE=URI:https://www.echecs-segre.fr/evenements/2026/02/08/dep-jeune-r4-2443777
END:VEVENT
END:VCALENDAR
