BEGIN:VCALENDAR
VERSION:2.0
PRODID:-//hacksw/handcal//NONSGML v1.0//EN
BEGIN:VEVENT
SUMMARY:N1 J - R6
UID:6326f186-cfb9-46f0-80d3-9f03037b8417
DTSTART:20260208T113000Z
DTEND:20260208T230000Z
LOCATION:Localisation   
CATEGORIES:Sportif
STATUS:
URL;VALUE=URI:https://www.echecs-segre.fr/evenements/2026/02/08/n1-j-r6-2443761
END:VEVENT
END:VCALENDAR
