BEGIN:VCALENDAR
VERSION:2.0
PRODID:-//hacksw/handcal//NONSGML v1.0//EN
BEGIN:VEVENT
SUMMARY:N1
UID:86bc7f23-8d01-4a01-97d7-618b2e595b42
DTSTART:20260308T113000Z
DTEND:20260308T170000Z
LOCATION:Localisation   
CATEGORIES:Sportif
STATUS:
URL;VALUE=URI:https://www.echecs-segre.fr/evenements/2026/03/08/n1-2443725
END:VEVENT
END:VCALENDAR
